BEGIN:VCALENDAR
VERSION:2.0
PRODID:-//Hacienda Renacer de Lares Inc. - ECPv6.13.2.1//NONSGML v1.0//EN
CALSCALE:GREGORIAN
METHOD:PUBLISH
X-ORIGINAL-URL:https://demo2.miopr.com/hlares
X-WR-CALDESC:Events for Hacienda Renacer de Lares Inc.
REFRESH-INTERVAL;VALUE=DURATION:PT1H
X-Robots-Tag:noindex
X-PUBLISHED-TTL:PT1H
BEGIN:VTIMEZONE
TZID:America/Halifax
BEGIN:DAYLIGHT
TZOFFSETFROM:-0400
TZOFFSETTO:-0300
TZNAME:ADT
DTSTART:20240310T060000
END:DAYLIGHT
BEGIN:STANDARD
TZOFFSETFROM:-0300
TZOFFSETTO:-0400
TZNAME:AST
DTSTART:20241103T050000
END:STANDARD
BEGIN:DAYLIGHT
TZOFFSETFROM:-0400
TZOFFSETTO:-0300
TZNAME:ADT
DTSTART:20250309T060000
END:DAYLIGHT
BEGIN:STANDARD
TZOFFSETFROM:-0300
TZOFFSETTO:-0400
TZNAME:AST
DTSTART:20251102T050000
END:STANDARD
END:VTIMEZONE
BEGIN:VEVENT
DTSTART;TZID=America/Halifax:20250316T090000
DTEND;TZID=America/Halifax:20250316T140000
DTSTAMP:20260421T162209
CREATED:20250216T011920Z
LAST-MODIFIED:20250216T012308Z
UID:1530-1742115600-1742133600@demo2.miopr.com
SUMMARY:El Rompecabezas – Espacio de Bienestar
DESCRIPTION:
URL:https://demo2.miopr.com/hlares/event/el-rompecabezas-espacio-de-bienestar/
LOCATION:Hacienda Renacer de Lares\, 14 Jardin de la Pasion\, Lares\, Puerto Rico\, 00669-2726\, Puerto Rico
CATEGORIES:Acupuntura,Aromaterapia,Masage,Meditación,Neurociencia,Terapia de Bloque,Yoga
ORGANIZER;CN="Hacienda Renacer de Lares":MAILTO:info@demo2.miopr.com
END:VEVENT
BEGIN:VEVENT
DTSTART;TZID=America/Halifax:20250216T080000
DTEND;TZID=America/Halifax:20250216T140000
DTSTAMP:20260421T162209
CREATED:20250122T221226Z
LAST-MODIFIED:20250212T151004Z
UID:1494-1739692800-1739714400@demo2.miopr.com
SUMMARY:Prepárate a volar – Espacio de Bienestar
DESCRIPTION:
URL:https://demo2.miopr.com/hlares/event/preparate-a-volar-espacio-de-bienestar/
LOCATION:Hacienda Renacer de Lares\, 14 Jardin de la Pasion\, Lares\, Puerto Rico\, 00669-2726\, Puerto Rico
CATEGORIES:Acupuntura,Aromaterapia,Masage,Meditación,Neurociencia,Terapia de Bloque,Yoga
ORGANIZER;CN="Hacienda Renacer de Lares":MAILTO:info@demo2.miopr.com
END:VEVENT
BEGIN:VEVENT
DTSTART;TZID=America/Halifax:20250119T090000
DTEND;TZID=America/Halifax:20250119T140000
DTSTAMP:20260421T162209
CREATED:20241128T235741Z
LAST-MODIFIED:20241128T235741Z
UID:1415-1737277200-1737295200@demo2.miopr.com
SUMMARY:Conectando con mi futuro - Espacio de Bienestar
DESCRIPTION:
URL:https://demo2.miopr.com/hlares/event/conectando-con-mi-futuro-espacio-de-bienestar/
LOCATION:Hacienda Renacer de Lares\, 14 Jardin de la Pasion\, Lares\, Puerto Rico\, 00669-2726\, Puerto Rico
CATEGORIES:Aromaterapia,Masage,Meditación,Neurociencia,Yoga
ORGANIZER;CN="Hacienda Renacer de Lares":MAILTO:info@demo2.miopr.com
END:VEVENT
BEGIN:VEVENT
DTSTART;TZID=America/Halifax:20241018T083000
DTEND;TZID=America/Halifax:20241018T163000
DTSTAMP:20260421T162209
CREATED:20240905T164832Z
LAST-MODIFIED:20240905T164832Z
UID:1369-1729240200-1729269000@demo2.miopr.com
SUMMARY:Comunicación e Inteligencia Emocional para Influenciar - San Juan
DESCRIPTION:
URL:https://demo2.miopr.com/hlares/event/comunicacion-e-inteligencia-emocional-para-influenciar-san-juan/
LOCATION:Salón Café de Go Business PR\, edificio Las Américas Professional Center\, 400 Av. Ing. Manuel Domenech\,\, San Juan\, PR\, 00918
CATEGORIES:Liderazgo,Neurociencia
END:VEVENT
BEGIN:VEVENT
DTSTART;TZID=America/Halifax:20240929T090000
DTEND;TZID=America/Halifax:20240929T130000
DTSTAMP:20260421T162209
CREATED:20240826T200224Z
LAST-MODIFIED:20240826T200224Z
UID:1356-1727600400-1727614800@demo2.miopr.com
SUMMARY:Espacio de Bienestar - Septiembre 2024
DESCRIPTION:
URL:https://demo2.miopr.com/hlares/event/espacio-de-bienestar-septiembre-2024/
LOCATION:Hacienda Renacer de Lares\, 14 Jardin de la Pasion\, Lares\, Puerto Rico\, 00669-2726\, Puerto Rico
CATEGORIES:Acupuntura,Aromaterapia,Meditación,Neurociencia,Terapia de Bloque,Yoga
ORGANIZER;CN="Hacienda Renacer de Lares":MAILTO:info@demo2.miopr.com
END:VEVENT
BEGIN:VEVENT
DTSTART;TZID=America/Halifax:20240927T090000
DTEND;TZID=America/Halifax:20240927T153000
DTSTAMP:20260421T162209
CREATED:20240719T164011Z
LAST-MODIFIED:20240719T172319Z
UID:1328-1727427600-1727451000@demo2.miopr.com
SUMMARY:El Rol del Supervisor Como Líder de Impacto – Septiembre 2024 - Lares
DESCRIPTION:
URL:https://demo2.miopr.com/hlares/event/el-rol-del-supervisor-como-lider-de-impacto-septiembre-2024-lares/
LOCATION:Hacienda Renacer de Lares\, 14 Jardin de la Pasion\, Lares\, Puerto Rico\, 00669-2726\, Puerto Rico
CATEGORIES:Liderazgo,Neurociencia
END:VEVENT
BEGIN:VEVENT
DTSTART;TZID=America/Halifax:20240913T090000
DTEND;TZID=America/Halifax:20240913T153000
DTSTAMP:20260421T162209
CREATED:20240417T175654Z
LAST-MODIFIED:20240719T165651Z
UID:1311-1726218000-1726241400@demo2.miopr.com
SUMMARY:El Rol del Supervisor Como Líder de Impacto-Septiembre 2024-San Juan
DESCRIPTION:
URL:https://demo2.miopr.com/hlares/event/el-rol-del-supervisor-como-lider-de-impacto-septiembre-2024-san-juan/
LOCATION:Salón Café de Go Business PR\, edificio Las Américas Professional Center\, 400 Av. Ing. Manuel Domenech\,\, San Juan\, PR\, 00918
CATEGORIES:Liderazgo,Neurociencia
END:VEVENT
BEGIN:VEVENT
DTSTART;TZID=America/Halifax:20240406T083000
DTEND;TZID=America/Halifax:20240406T160000
DTSTAMP:20260421T162209
CREATED:20240227T164425Z
LAST-MODIFIED:20240227T170114Z
UID:1265-1712392200-1712419200@demo2.miopr.com
SUMMARY:Hablemos de Terapias Alternativas para el Cuidado de tu Salud - 2da Sesión
DESCRIPTION:
URL:https://demo2.miopr.com/hlares/event/hablemos-de-terapias-alternativas-para-el-cuidado-de-tu-salud-2da-sesion/
LOCATION:Hacienda Renacer de Lares\, 14 Jardin de la Pasion\, Lares\, Puerto Rico\, 00669-2726\, Puerto Rico
CATEGORIES:Acupuntura,Aromaterapia,Masage,Neurociencia,Terapia de Bloque
ORGANIZER;CN="Hacienda Renacer de Lares":MAILTO:info@demo2.miopr.com
END:VEVENT
END:VCALENDAR