BEGIN:VCALENDAR
VERSION:2.0
PRODID:-//Hacienda Renacer de Lares Inc. - ECPv6.13.2.1//NONSGML v1.0//EN
CALSCALE:GREGORIAN
METHOD:PUBLISH
X-ORIGINAL-URL:https://demo2.miopr.com/hlares
X-WR-CALDESC:Events for Hacienda Renacer de Lares Inc.
REFRESH-INTERVAL;VALUE=DURATION:PT1H
X-Robots-Tag:noindex
X-PUBLISHED-TTL:PT1H
BEGIN:VTIMEZONE
TZID:America/Halifax
BEGIN:DAYLIGHT
TZOFFSETFROM:-0400
TZOFFSETTO:-0300
TZNAME:ADT
DTSTART:20240310T060000
END:DAYLIGHT
BEGIN:STANDARD
TZOFFSETFROM:-0300
TZOFFSETTO:-0400
TZNAME:AST
DTSTART:20241103T050000
END:STANDARD
BEGIN:DAYLIGHT
TZOFFSETFROM:-0400
TZOFFSETTO:-0300
TZNAME:ADT
DTSTART:20250309T060000
END:DAYLIGHT
BEGIN:STANDARD
TZOFFSETFROM:-0300
TZOFFSETTO:-0400
TZNAME:AST
DTSTART:20251102T050000
END:STANDARD
END:VTIMEZONE
BEGIN:VEVENT
DTSTART;TZID=America/Halifax:20250525T090000
DTEND;TZID=America/Halifax:20250525T140000
DTSTAMP:20260421T125226
CREATED:20250403T034314Z
LAST-MODIFIED:20250403T034314Z
UID:1557-1748163600-1748181600@demo2.miopr.com
SUMMARY:ACTÍVATE: Descubre y conecta con tu potencial – Espacio de bienestar
DESCRIPTION:
URL:https://demo2.miopr.com/hlares/event/activate-descubre-y-conecta-con-tu-potencial-espacio-de-bienestar/
LOCATION:Hacienda Renacer de Lares\, 14 Jardin de la Pasion\, Lares\, Puerto Rico\, 00669-2726\, Puerto Rico
ORGANIZER;CN="Hacienda Renacer de Lares":MAILTO:info@demo2.miopr.com
END:VEVENT
BEGIN:VEVENT
DTSTART;TZID=America/Halifax:20250316T090000
DTEND;TZID=America/Halifax:20250316T140000
DTSTAMP:20260421T125226
CREATED:20250216T011920Z
LAST-MODIFIED:20250216T012308Z
UID:1530-1742115600-1742133600@demo2.miopr.com
SUMMARY:El Rompecabezas – Espacio de Bienestar
DESCRIPTION:
URL:https://demo2.miopr.com/hlares/event/el-rompecabezas-espacio-de-bienestar/
LOCATION:Hacienda Renacer de Lares\, 14 Jardin de la Pasion\, Lares\, Puerto Rico\, 00669-2726\, Puerto Rico
CATEGORIES:Acupuntura,Aromaterapia,Masage,Meditación,Neurociencia,Terapia de Bloque,Yoga
ORGANIZER;CN="Hacienda Renacer de Lares":MAILTO:info@demo2.miopr.com
END:VEVENT
BEGIN:VEVENT
DTSTART;TZID=America/Halifax:20250221T090000
DTEND;TZID=America/Halifax:20250221T153000
DTSTAMP:20260421T125226
CREATED:20250131T230154Z
LAST-MODIFIED:20250131T230708Z
UID:1506-1740128400-1740151800@demo2.miopr.com
SUMMARY:El Rol del Supervisor Como Líder de Impacto - San Juan
DESCRIPTION:
URL:https://demo2.miopr.com/hlares/event/el-rol-del-supervisor-como-lider-de-impacto-2/
LOCATION:Salón Café de Go Business PR\, edificio Las Américas Professional Center\, 400 Av. Ing. Manuel Domenech\,\, San Juan\, PR\, 00918
ORGANIZER;CN="Hacienda Renacer de Lares":MAILTO:info@demo2.miopr.com
END:VEVENT
BEGIN:VEVENT
DTSTART;TZID=America/Halifax:20250220T090000
DTEND;TZID=America/Halifax:20250220T163000
DTSTAMP:20260421T125226
CREATED:20250131T230453Z
LAST-MODIFIED:20250131T230610Z
UID:1509-1740042000-1740069000@demo2.miopr.com
SUMMARY:Academia de Neuronegociación P2
DESCRIPTION:
URL:https://demo2.miopr.com/hlares/event/academia-de-neuronegociacion-p2/
LOCATION:Hacienda Renacer de Lares\, 14 Jardin de la Pasion\, Lares\, Puerto Rico\, 00669-2726\, Puerto Rico
ORGANIZER;CN="Hacienda Renacer de Lares":MAILTO:info@demo2.miopr.com
END:VEVENT
BEGIN:VEVENT
DTSTART;TZID=America/Halifax:20250216T080000
DTEND;TZID=America/Halifax:20250216T140000
DTSTAMP:20260421T125226
CREATED:20250122T221226Z
LAST-MODIFIED:20250212T151004Z
UID:1494-1739692800-1739714400@demo2.miopr.com
SUMMARY:Prepárate a volar – Espacio de Bienestar
DESCRIPTION:
URL:https://demo2.miopr.com/hlares/event/preparate-a-volar-espacio-de-bienestar/
LOCATION:Hacienda Renacer de Lares\, 14 Jardin de la Pasion\, Lares\, Puerto Rico\, 00669-2726\, Puerto Rico
CATEGORIES:Acupuntura,Aromaterapia,Masage,Meditación,Neurociencia,Terapia de Bloque,Yoga
ORGANIZER;CN="Hacienda Renacer de Lares":MAILTO:info@demo2.miopr.com
END:VEVENT
BEGIN:VEVENT
DTSTART;TZID=America/Halifax:20250213T090000
DTEND;TZID=America/Halifax:20250213T163000
DTSTAMP:20260421T125226
CREATED:20250131T225722Z
LAST-MODIFIED:20250131T230541Z
UID:1500-1739437200-1739464200@demo2.miopr.com
SUMMARY:Academia de Neuronegociación P1
DESCRIPTION:
URL:https://demo2.miopr.com/hlares/event/academia-de-neuronegociacion/
LOCATION:Hacienda Renacer de Lares\, 14 Jardin de la Pasion\, Lares\, Puerto Rico\, 00669-2726\, Puerto Rico
ORGANIZER;CN="Hacienda Renacer de Lares":MAILTO:info@demo2.miopr.com
END:VEVENT
BEGIN:VEVENT
DTSTART;TZID=America/Halifax:20250207T090000
DTEND;TZID=America/Halifax:20250207T153000
DTSTAMP:20260421T125226
CREATED:20250131T230009Z
LAST-MODIFIED:20250131T230009Z
UID:1503-1738918800-1738942200@demo2.miopr.com
SUMMARY:El Rol del Supervisor Como Líder de Impacto - Lares
DESCRIPTION:
URL:https://demo2.miopr.com/hlares/event/el-rol-del-supervisor-como-lider-de-impacto-lares/
LOCATION:Hacienda Renacer de Lares\, 14 Jardin de la Pasion\, Lares\, Puerto Rico\, 00669-2726\, Puerto Rico
ORGANIZER;CN="Hacienda Renacer de Lares":MAILTO:info@demo2.miopr.com
END:VEVENT
BEGIN:VEVENT
DTSTART;TZID=America/Halifax:20250119T090000
DTEND;TZID=America/Halifax:20250119T140000
DTSTAMP:20260421T125226
CREATED:20241128T235741Z
LAST-MODIFIED:20241128T235741Z
UID:1415-1737277200-1737295200@demo2.miopr.com
SUMMARY:Conectando con mi futuro - Espacio de Bienestar
DESCRIPTION:
URL:https://demo2.miopr.com/hlares/event/conectando-con-mi-futuro-espacio-de-bienestar/
LOCATION:Hacienda Renacer de Lares\, 14 Jardin de la Pasion\, Lares\, Puerto Rico\, 00669-2726\, Puerto Rico
CATEGORIES:Aromaterapia,Masage,Meditación,Neurociencia,Yoga
ORGANIZER;CN="Hacienda Renacer de Lares":MAILTO:info@demo2.miopr.com
END:VEVENT
BEGIN:VEVENT
DTSTART;TZID=America/Halifax:20241117T090000
DTEND;TZID=America/Halifax:20241117T130000
DTSTAMP:20260421T125226
CREATED:20241108T151633Z
LAST-MODIFIED:20241108T151633Z
UID:1402-1731834000-1731848400@demo2.miopr.com
SUMMARY:Espacio de Bienestar - Noviembre 2024
DESCRIPTION:
URL:https://demo2.miopr.com/hlares/event/espacio-de-bienestar-noviembre-2024/
LOCATION:Hacienda Renacer de Lares\, 14 Jardin de la Pasion\, Lares\, Puerto Rico\, 00669-2726\, Puerto Rico
ORGANIZER;CN="Hacienda Renacer de Lares":MAILTO:info@demo2.miopr.com
END:VEVENT
BEGIN:VEVENT
DTSTART;TZID=America/Halifax:20241115T083000
DTEND;TZID=America/Halifax:20241115T163000
DTSTAMP:20260421T125226
CREATED:20240905T165203Z
LAST-MODIFIED:20240905T165203Z
UID:1372-1731659400-1731688200@demo2.miopr.com
SUMMARY:Comunicación e Inteligencia Emocional para Influenciar - Lares
DESCRIPTION:
URL:https://demo2.miopr.com/hlares/event/comunicacion-e-inteligencia-emocional-para-influenciar-lares/
LOCATION:Hacienda Renacer de Lares\, 14 Jardin de la Pasion\, Lares\, Puerto Rico\, 00669-2726\, Puerto Rico
END:VEVENT
BEGIN:VEVENT
DTSTART;TZID=America/Halifax:20241019T090000
DTEND;TZID=America/Halifax:20241019T130000
DTSTAMP:20260421T125226
CREATED:20241007T014912Z
LAST-MODIFIED:20241007T014912Z
UID:1377-1729328400-1729342800@demo2.miopr.com
SUMMARY:Espacio de Bienestar - Octubre 2024
DESCRIPTION:
URL:https://demo2.miopr.com/hlares/event/espacio-de-bienestar-octubre-2024/
LOCATION:Hacienda Renacer de Lares\, 14 Jardin de la Pasion\, Lares\, Puerto Rico\, 00669-2726\, Puerto Rico
ORGANIZER;CN="Hacienda Renacer de Lares":MAILTO:info@demo2.miopr.com
END:VEVENT
BEGIN:VEVENT
DTSTART;TZID=America/Halifax:20241018T083000
DTEND;TZID=America/Halifax:20241018T163000
DTSTAMP:20260421T125226
CREATED:20240905T164832Z
LAST-MODIFIED:20240905T164832Z
UID:1369-1729240200-1729269000@demo2.miopr.com
SUMMARY:Comunicación e Inteligencia Emocional para Influenciar - San Juan
DESCRIPTION:
URL:https://demo2.miopr.com/hlares/event/comunicacion-e-inteligencia-emocional-para-influenciar-san-juan/
LOCATION:Salón Café de Go Business PR\, edificio Las Américas Professional Center\, 400 Av. Ing. Manuel Domenech\,\, San Juan\, PR\, 00918
CATEGORIES:Liderazgo,Neurociencia
END:VEVENT
BEGIN:VEVENT
DTSTART;TZID=America/Halifax:20240929T090000
DTEND;TZID=America/Halifax:20240929T130000
DTSTAMP:20260421T125226
CREATED:20240826T200224Z
LAST-MODIFIED:20240826T200224Z
UID:1356-1727600400-1727614800@demo2.miopr.com
SUMMARY:Espacio de Bienestar - Septiembre 2024
DESCRIPTION:
URL:https://demo2.miopr.com/hlares/event/espacio-de-bienestar-septiembre-2024/
LOCATION:Hacienda Renacer de Lares\, 14 Jardin de la Pasion\, Lares\, Puerto Rico\, 00669-2726\, Puerto Rico
CATEGORIES:Acupuntura,Aromaterapia,Meditación,Neurociencia,Terapia de Bloque,Yoga
ORGANIZER;CN="Hacienda Renacer de Lares":MAILTO:info@demo2.miopr.com
END:VEVENT
BEGIN:VEVENT
DTSTART;TZID=America/Halifax:20240927T090000
DTEND;TZID=America/Halifax:20240927T153000
DTSTAMP:20260421T125226
CREATED:20240719T164011Z
LAST-MODIFIED:20240719T172319Z
UID:1328-1727427600-1727451000@demo2.miopr.com
SUMMARY:El Rol del Supervisor Como Líder de Impacto – Septiembre 2024 - Lares
DESCRIPTION:
URL:https://demo2.miopr.com/hlares/event/el-rol-del-supervisor-como-lider-de-impacto-septiembre-2024-lares/
LOCATION:Hacienda Renacer de Lares\, 14 Jardin de la Pasion\, Lares\, Puerto Rico\, 00669-2726\, Puerto Rico
CATEGORIES:Liderazgo,Neurociencia
END:VEVENT
BEGIN:VEVENT
DTSTART;TZID=America/Halifax:20240913T090000
DTEND;TZID=America/Halifax:20240913T153000
DTSTAMP:20260421T125226
CREATED:20240417T175654Z
LAST-MODIFIED:20240719T165651Z
UID:1311-1726218000-1726241400@demo2.miopr.com
SUMMARY:El Rol del Supervisor Como Líder de Impacto-Septiembre 2024-San Juan
DESCRIPTION:
URL:https://demo2.miopr.com/hlares/event/el-rol-del-supervisor-como-lider-de-impacto-septiembre-2024-san-juan/
LOCATION:Salón Café de Go Business PR\, edificio Las Américas Professional Center\, 400 Av. Ing. Manuel Domenech\,\, San Juan\, PR\, 00918
CATEGORIES:Liderazgo,Neurociencia
END:VEVENT
BEGIN:VEVENT
DTSTART;TZID=America/Halifax:20240825T090000
DTEND;TZID=America/Halifax:20240825T130000
DTSTAMP:20260421T125226
CREATED:20240731T220352Z
LAST-MODIFIED:20240731T220352Z
UID:1335-1724576400-1724590800@demo2.miopr.com
SUMMARY:Espacio de Bienestar - Agosto 2024
DESCRIPTION:
URL:https://demo2.miopr.com/hlares/event/espacio-de-bienestar-agosto-2024/
LOCATION:Hacienda Renacer de Lares\, 14 Jardin de la Pasion\, Lares\, Puerto Rico\, 00669-2726\, Puerto Rico
ORGANIZER;CN="Hacienda Renacer de Lares":MAILTO:info@demo2.miopr.com
END:VEVENT
BEGIN:VEVENT
DTSTART;TZID=America/Halifax:20240721T090000
DTEND;TZID=America/Halifax:20240721T150000
DTSTAMP:20260421T125226
CREATED:20240530T085736Z
LAST-MODIFIED:20240530T085736Z
UID:1318-1721552400-1721574000@demo2.miopr.com
SUMMARY:POMPEA TU BIENESTAR ESTE VERANO
DESCRIPTION:
URL:https://demo2.miopr.com/hlares/event/pompea-tu-bienestar-este-verano/
LOCATION:Hacienda Renacer de Lares\, 14 Jardin de la Pasion\, Lares\, Puerto Rico\, 00669-2726\, Puerto Rico
ORGANIZER;CN="Hacienda Renacer de Lares":MAILTO:info@demo2.miopr.com
END:VEVENT
BEGIN:VEVENT
DTSTART;TZID=America/Halifax:20240505T090000
DTEND;TZID=America/Halifax:20240505T130000
DTSTAMP:20260421T125226
CREATED:20240417T175108Z
LAST-MODIFIED:20240417T175108Z
UID:1307-1714899600-1714914000@demo2.miopr.com
SUMMARY:Espacio de Bienestar – Mayo 2024
DESCRIPTION:
URL:https://demo2.miopr.com/hlares/event/espacio-de-bienestar-mayo-2024/
LOCATION:Hacienda Renacer de Lares\, 14 Jardin de la Pasion\, Lares\, Puerto Rico\, 00669-2726\, Puerto Rico
ORGANIZER;CN="Hacienda Renacer de Lares":MAILTO:info@demo2.miopr.com
END:VEVENT
BEGIN:VEVENT
DTSTART;TZID=America/Halifax:20240424T120000
DTEND;TZID=America/Halifax:20240424T170000
DTSTAMP:20260421T125226
CREATED:20240213T225000Z
LAST-MODIFIED:20240227T170101Z
UID:1238-1713960000-1713978000@demo2.miopr.com
SUMMARY:Semana del Asistente Administrativo
DESCRIPTION:
URL:https://demo2.miopr.com/hlares/event/semana-del-asistente-administrativo/
LOCATION:Hacienda Renacer de Lares\, 14 Jardin de la Pasion\, Lares\, Puerto Rico\, 00669-2726\, Puerto Rico
END:VEVENT
BEGIN:VEVENT
DTSTART;TZID=America/Halifax:20240418T190000
DTEND;TZID=America/Halifax:20240418T203000
DTSTAMP:20260421T125226
CREATED:20240317T160456Z
LAST-MODIFIED:20240317T161028Z
UID:1289-1713466800-1713472200@demo2.miopr.com
SUMMARY:Charla de Bienestar - Transformando mi herencia P3
DESCRIPTION:Puedes participar de esta charla de forma presencial en nuestra hacienda en Lares o de forma virtual el día \ndel evento a través de nuestra página de Facebook: https://www.facebook.com/HaciendaRenacerdeLares
URL:https://demo2.miopr.com/hlares/event/hablemos-de-terapias-alternativas-para-el-cuidado-de-tu-salud-2da-sesion-2/
LOCATION:Hacienda Renacer de Lares\, 14 Jardin de la Pasion\, Lares\, Puerto Rico\, 00669-2726\, Puerto Rico
ORGANIZER;CN="Hacienda Renacer de Lares":MAILTO:info@demo2.miopr.com
END:VEVENT
BEGIN:VEVENT
DTSTART;TZID=America/Halifax:20240414T090000
DTEND;TZID=America/Halifax:20240414T130000
DTSTAMP:20260421T125226
CREATED:20240317T162722Z
LAST-MODIFIED:20240317T162722Z
UID:1294-1713085200-1713099600@demo2.miopr.com
SUMMARY:Espacio de Bienestar - Abril 2024
DESCRIPTION:
URL:https://demo2.miopr.com/hlares/event/hablemos-de-terapias-alternativas-para-el-cuidado-de-tu-salud-2da-sesion-3/
LOCATION:Hacienda Renacer de Lares\, 14 Jardin de la Pasion\, Lares\, Puerto Rico\, 00669-2726\, Puerto Rico
ORGANIZER;CN="Hacienda Renacer de Lares":MAILTO:info@demo2.miopr.com
END:VEVENT
BEGIN:VEVENT
DTSTART;TZID=America/Halifax:20240412T090000
DTEND;TZID=America/Halifax:20240412T153000
DTSTAMP:20260421T125226
CREATED:20220902T154818Z
LAST-MODIFIED:20240227T170107Z
UID:857-1712912400-1712935800@demo2.miopr.com
SUMMARY:El Rol del Supervisor Como Líder de Impacto
DESCRIPTION:
URL:https://demo2.miopr.com/hlares/event/el-rol-del-supervisor-como-lider-de-impacto/
LOCATION:Salón Café de Go Business PR\, edificio Las Américas Professional Center\, 400 Av. Ing. Manuel Domenech\,\, San Juan\, PR\, 00918
END:VEVENT
BEGIN:VEVENT
DTSTART;TZID=America/Halifax:20240411T110000
DTEND;TZID=America/Halifax:20240411T123000
DTSTAMP:20260421T125226
CREATED:20240318T221016Z
LAST-MODIFIED:20240318T221016Z
UID:1297-1712833200-1712838600@demo2.miopr.com
SUMMARY:Seminario: Tengo más de un jefe ¿Qué hago?
DESCRIPTION:
URL:https://demo2.miopr.com/hlares/event/seminario-tengo-mas-de-un-jefe-que-hago/
LOCATION:Puerto Rico
ORGANIZER;CN="Hacienda Renacer de Lares":MAILTO:info@demo2.miopr.com
END:VEVENT
BEGIN:VEVENT
DTSTART;TZID=America/Halifax:20240406T083000
DTEND;TZID=America/Halifax:20240406T160000
DTSTAMP:20260421T125226
CREATED:20240227T164425Z
LAST-MODIFIED:20240227T170114Z
UID:1265-1712392200-1712419200@demo2.miopr.com
SUMMARY:Hablemos de Terapias Alternativas para el Cuidado de tu Salud - 2da Sesión
DESCRIPTION:
URL:https://demo2.miopr.com/hlares/event/hablemos-de-terapias-alternativas-para-el-cuidado-de-tu-salud-2da-sesion/
LOCATION:Hacienda Renacer de Lares\, 14 Jardin de la Pasion\, Lares\, Puerto Rico\, 00669-2726\, Puerto Rico
CATEGORIES:Acupuntura,Aromaterapia,Masage,Neurociencia,Terapia de Bloque
ORGANIZER;CN="Hacienda Renacer de Lares":MAILTO:info@demo2.miopr.com
END:VEVENT
BEGIN:VEVENT
DTSTART;TZID=America/Halifax:20240324T090000
DTEND;TZID=America/Halifax:20240324T130000
DTSTAMP:20260421T125226
CREATED:20220909T004327Z
LAST-MODIFIED:20240227T170121Z
UID:909-1711270800-1711285200@demo2.miopr.com
SUMMARY:Espacio de Bienestar - Marzo 2024
DESCRIPTION:Registrate llamando al 787-598-6049
URL:https://demo2.miopr.com/hlares/event/espacio-de-bienestar-marzo-2024/
LOCATION:Hacienda Renacer de Lares\, 14 Jardin de la Pasion\, Lares\, Puerto Rico\, 00669-2726\, Puerto Rico
CATEGORIES:Meditación,Terapia de Bloque,Yoga
ORGANIZER;CN="Hacienda Renacer de Lares":MAILTO:info@demo2.miopr.com
END:VEVENT
BEGIN:VEVENT
DTSTART;TZID=America/Halifax:20240321T190000
DTEND;TZID=America/Halifax:20240321T203000
DTSTAMP:20260421T125226
CREATED:20220909T004618Z
LAST-MODIFIED:20240317T160533Z
UID:914-1711047600-1711053000@demo2.miopr.com
SUMMARY:Charla de Bienestar - Transformando mi herencia P2
DESCRIPTION:Puedes participar de esta charla de forma presencial en nuestra hacienda en Lares o de forma virtual el día \ndel evento a través de nuestra página de Facebook: https://www.facebook.com/HaciendaRenacerdeLares
URL:https://demo2.miopr.com/hlares/event/charla-de-bienestar/
LOCATION:Hacienda Renacer de Lares\, 14 Jardin de la Pasion\, Lares\, Puerto Rico\, 00669-2726\, Puerto Rico
ORGANIZER;CN="Hacienda Renacer de Lares":MAILTO:info@demo2.miopr.com
END:VEVENT
END:VCALENDAR